BEGIN:VCALENDAR
VERSION:2.0
PRODID:-//Tukios.com/
BEGIN:VEVENT
UID:29e0432a-fb62-4005-b768-f6d4fd768cb3@www.parnickjenningsfuneral.com
DTSTAMP:20260424T205502Z
DTSTART:20260429T150000Z
DTEND:20260429T160000Z
SUMMARY:Funeral Service
DESCRIPTION:
URL:https://www.parnickjenningsfuneral.com/obituaries/steve-whitfield
LOCATION:Parnick Jennings Funeral Home & Cremation Services 430 Cassville 
	Road  Cartersville GA 30120
GEO:34.1899981;-84.8201719
END:VEVENT
END:VCALENDAR