BEGIN:VCALENDAR
VERSION:2.0
PRODID:-//Tukios.com/
BEGIN:VEVENT
UID:be629711-6910-4110-bd20-f46a5bd4a7a9@www.parnickjenningsfuneral.com
DTSTAMP:20260424T205924Z
DTSTART:20260428T210000Z
DTEND:20260429T000000Z
SUMMARY:Visitation
DESCRIPTION:
URL:https://www.parnickjenningsfuneral.com/obituaries/steve-whitfield
LOCATION:Parnick Jennings Funeral Home & Cremation Services 430 Cassville 
	Road  Cartersville GA 30120
GEO:34.1899981;-84.8201719
END:VEVENT
END:VCALENDAR